BEGIN:VCALENDAR
VERSION:2.0
PRODID:-//jEvents 2.0 for Joomla//EN
CALSCALE:GREGORIAN
METHOD:PUBLISH
BEGIN:VTIMEZONE
TZID:America/New_York
END:VTIMEZONE
BEGIN:VEVENT
UID:d26afad13390037ddb5b6744fc3b45ae
CATEGORIES:Holiday
CREATED:20240313T145913
SUMMARY:Christmas
DESCRIPTION:
DTSTAMP:20260421T214413
DTSTART;TZID=America/New_York;VALUE=DATE:20361225
DTEND;TZID=America/New_York;VALUE=DATE:20361226
SEQUENCE:0
TRANSP:OPAQUE
END:VEVENT
END:VCALENDAR