BEGIN:VCALENDAR
VERSION:2.0
PRODID:-//jEvents 2.0 for Joomla//EN
CALSCALE:GREGORIAN
METHOD:PUBLISH
BEGIN:VEVENT
UID:d26afad13390037ddb5b6744fc3b45ae
CATEGORIES:Holiday
CREATED:20240313T145913
SUMMARY:Christmas
DESCRIPTION:
DTSTAMP:20260422T093047
DTSTART;TZID=America/New_York;VALUE=DATE:20381225
DTEND;TZID=America/New_York;VALUE=DATE:20381226
SEQUENCE:0
TRANSP:OPAQUE
END:VEVENT
END:VCALENDAR